BEGIN:VCALENDAR
VERSION:2.0
PRODID:-//WoodPop - ECPv6.15.20//NONSGML v1.0//EN
CALSCALE:GREGORIAN
METHOD:PUBLISH
X-WR-CALNAME:WoodPop
X-ORIGINAL-URL:https://woodpop.eu
X-WR-CALDESC:Events for WoodPop
REFRESH-INTERVAL;VALUE=DURATION:PT1H
X-Robots-Tag:noindex
X-PUBLISHED-TTL:PT1H
BEGIN:VTIMEZONE
TZID:Europe/Paris
BEGIN:DAYLIGHT
TZOFFSETFROM:+0100
TZOFFSETTO:+0200
TZNAME:CEST
DTSTART:20230326T010000
END:DAYLIGHT
BEGIN:STANDARD
TZOFFSETFROM:+0200
TZOFFSETTO:+0100
TZNAME:CET
DTSTART:20231029T010000
END:STANDARD
BEGIN:DAYLIGHT
TZOFFSETFROM:+0100
TZOFFSETTO:+0200
TZNAME:CEST
DTSTART:20240331T010000
END:DAYLIGHT
BEGIN:STANDARD
TZOFFSETFROM:+0200
TZOFFSETTO:+0100
TZNAME:CET
DTSTART:20241027T010000
END:STANDARD
BEGIN:DAYLIGHT
TZOFFSETFROM:+0100
TZOFFSETTO:+0200
TZNAME:CEST
DTSTART:20250330T010000
END:DAYLIGHT
BEGIN:STANDARD
TZOFFSETFROM:+0200
TZOFFSETTO:+0100
TZNAME:CET
DTSTART:20251026T010000
END:STANDARD
END:VTIMEZONE
BEGIN:VEVENT
DTSTART;TZID=Europe/Paris:20241204T134500
DTEND;TZID=Europe/Paris:20241204T180000
DTSTAMP:20260424T182940
CREATED:20240803T175448Z
LAST-MODIFIED:20250129T135816Z
UID:52016-1733319900-1733335200@woodpop.eu
SUMMARY:Upskilling and reskilling the wood construction sector: perspectives from the New European Bauhaus Academy
DESCRIPTION:PROLOGUE V: Education and vocational training\nWednesday\, 4th December 2024\, 13:45 – 18:00 CET\n28th International Wood Construction Conference\, Innsbruck\, Austria \nOrganised by the Technical Working Group ‘Education and Vocational Training’ of the European Wood Policy Platform (woodPoP) \nPerspectives from the New European Bauhaus Academy on upskilling and reskilling the wood construction sector\nModeration: Veronika Steinhofer-Juch (IUFRO) & Andreja Kutnar (University of Primorska) \nIncreasing interest in timber construction\, new technologies and applications of wood and wood species pose new challenges for training and education in the wood construction sector. Interdisciplinary training and education programs as well as lifelong learning are becoming increasingly important. Platforms like the New European Bauhaus Academy offer exciting entry points for new forms of knowledge transfer. \n\n  \nREGISTRATION\nIf you are interested in joining\, kindly email your interest at contact@woodpop.eu. \n\n  \nEVENT LANGUAGE\nThis event will be in English. \n  \nPROGRAMME OVERVIEW\nThis programme is available in English and German. For the German version\, please scroll further down. \n  \nENGLISH VERSION \nPROGRAMME\n13:45 – 14:00 Opening\nDr. Georg Rappold\, Federal Ministry of Agriculture\, Forestry\, Regions and Water Management\, Austria\nDarko Sajko\, Ministry of Economy\, Tourism and Sport\, Slovenia \n14:00 – 14:15 New European Bauhaus\nAlina-Stefania Ujupan\, Head of Unit\, Joint Research Centre (JRC)\, European Commission \n14:15 – 15:00 New European Bauhaus Academy Alliance\nNEBAP Hub – Andreja Kutnar\, University of Primorska & InnoRenew CoE\, Slovenia\nNorth NEBA Hub – Matti Kuittinen\, Aalto University\, Finland\nOutreach NEBA Hub – Uwe Kies\, InnovaWood\, Belgium \n15:00 – 15:45 Innovative education\, training and microcredentials\nStefan Leitner\, Holzbau Austria\nWolfgang Kern\, Federal Ministry of Science\, Education and Research\, Austria\nDr. Guido Wimmers\, School of Construction and the Environment\, British Columbia Institute of Technology\, Canada \n15:45 – 16:15 Coffee break\n16:15 – 17:00 Training at the event: acoustics of timber buildings\nRok Prislan\, University of Primorska & InnoRenew CoE\, Slovenia \n17:00 – 17:45 Roundtable discussion – training needs in the construction sector\nMatej Vukmanic\, Chief Commercial Officer (CCO)\, Lumar d.o.o.\, Slovenia\nDr. Erich Wiesner\, WIEHAG\, Austria\nProf. Dr. Oya Atalay Franck\, European Association for Architectural Education\, Brussels\nGünther Kain\, HTBLA Hallstatt; Austria \n17:45 – 18:00 Concluding remarks and closure of the meeting\n  \nDEUTSCH VERSION \nPROLOG V: Aus- und Weiterbildung\nMittwoch\, 4. Dezember 2024 13:45 – 18:00 CET\n28. Internationales Holzbau-Forum Innsbruck\, Österreich \nOrganisiert von der Technischen Arbeitsgruppe „Bildung und Berufsbildung“ der Europäischen Holzpolitikplattform (woodPoP) \nPerspektiven der Neuen Europäischen Bauhaus-Akademie zu Aus- und Weiterbildung im Holzbausektor\nModeration: Veronika Steinhofer-Juch (IUFRO) & Andreja Kutnar (Universität Primorska) \nZunehmendes Interesse am Holzbau\, neue Technologien und Anwendungsmöglichkeiten von Holz und -Holzarten stellen die Aus- und Weiterbildung im Holzbausektor vor neue Herausforderungen. Interdisziplinäre Aus- und Weiterbildungsprogramme sowie lebenslanges Lernen gewinnen an Wichtigkeit. Plattformen wie die New European Bauhaus Academy bieten spannende Ansatzpunkte für neue Formen der Wissensvermittlung \nPROGRAMM\n13:45 – 14:00 Eröffnung\nGeorg Rappold\, Bundesministerium für Land- und Forstwirtschaft\, Regionen und Wasserwirtschaft\, Österreich\nDarko Sajko\, Ministerium für Wirtschaft\, Tourismus und Sport\, Slowenien \n14:00 – 14:15 Neues Europäisches Bauhaus\nAlina Ujupan\, Abteilungsleiterin\, Gemeinsame Forschungsstelle\, Europäische Kommission \n14:15 – 15:00 Neues Europäisches Bauhaus-Akademie (NEBA) Allianz\nNEBAP Hub – Andreja Kutnar\, Universität Primorska & InnoRenew CoE\nNEBA Hub Nord – Matti Kuittinen\, Aalto Universität\nNEBA Hub Outreach– Uwe Kies\, InnovaWood \n15:00 – 15:45 Innovative Bildung\, Ausbildung und Microcredentials\nStefan Leitner\, Holzbau Austria\nWolfgang Kern\, Bundesministerium für Wissenschaft\, Bildung und Forschung\, Österreich\nGuido Wimmers\, Dekan für Bauwesen und Umwelt\, Technisches Institut British Columbia\, Kanada \n15:45 – 16:15 Kaffeepause\n16:15 – 17:00 Training vor Ort: Akustik von Holzgebäuden\nRok Prislan\, Universität Primorska & InnoRenew CoE \n17:00 – 17:45 Diskussionsrunde – Ausbildungsbedarf im Bausektor\nMatej Vukmanic\, Chief Commercial Officer (CCO)\, Lumar d.o.o.\, Slowenien\nErich Wiesner\, WIEHAG\, Österreich\nOya Atalay Franck\, Direktorin\, Departement Architektur\, Gestaltung und Bauingenieurwesen\, Präsidentin des Europäischer Verband für Architekturausbildung\, ZHAW\, Schweiz\nGünther Kain\, HTBLA Hallstatt\, Österreich \n17:45 – 18:00 Schlussbemerkungen und Ende der Sitzung\n  \nWenn Sie an einer Teilnahme interessiert sind\, senden Sie bitte eine E-Mail an contact@woodpop.eu.
URL:https://woodpop.eu/event/28th-international-wood-construction-conference-ihf/
LOCATION:Innsbruck\, Austria\, Rennweg 3\, Innsbruck\, 6020\, Austria
CATEGORIES:TWG Education and Vocational Training,TWG Events
ATTACH;FMTTYPE=image/png:https://woodpop.eu/wp-content/uploads/2024/08/flyer_v2-28.10-1_banner_HQ_v2.png
END:VEVENT
END:VCALENDAR